BEGIN:VCALENDAR
VERSION:2.0
PRODID:-//Kenwood-Oakland Community Organization - ECPv6.14.2//NONSGML v1.0//EN
CALSCALE:GREGORIAN
METHOD:PUBLISH
X-ORIGINAL-URL:https://kocoonline.org
X-WR-CALDESC:Events for Kenwood-Oakland Community Organization
REFRESH-INTERVAL;VALUE=DURATION:PT1H
X-Robots-Tag:noindex
X-PUBLISHED-TTL:PT1H
BEGIN:VTIMEZONE
TZID:America/Chicago
BEGIN:DAYLIGHT
TZOFFSETFROM:-0600
TZOFFSETTO:-0500
TZNAME:CDT
DTSTART:20240310T080000
END:DAYLIGHT
BEGIN:STANDARD
TZOFFSETFROM:-0500
TZOFFSETTO:-0600
TZNAME:CST
DTSTART:20241103T070000
END:STANDARD
BEGIN:DAYLIGHT
TZOFFSETFROM:-0600
TZOFFSETTO:-0500
TZNAME:CDT
DTSTART:20250309T080000
END:DAYLIGHT
BEGIN:STANDARD
TZOFFSETFROM:-0500
TZOFFSETTO:-0600
TZNAME:CST
DTSTART:20251102T070000
END:STANDARD
END:VTIMEZONE
BEGIN:VEVENT
DTSTART;TZID=America/Chicago:20241130T190000
DTEND;TZID=America/Chicago:20241130T220000
DTSTAMP:20260419T133115
CREATED:20241010T205741Z
LAST-MODIFIED:20241120T194638Z
UID:2513-1732993200-1733004000@kocoonline.org
SUMMARY:A Bronze Affair 2024
DESCRIPTION:Join us as we celebrate 59 years of organizing and service in the Kenwood and Oakland Communities in Chicago and beyond.Enjoy the sensual sounds of live band and DJ\, delicious buffet dinner and much more.Get your tickets now!  \nKOCO is a 501(c) 3 organization\, and all donations support our critical programs and vital organizations activities. \n\nWhen:\n\nNovember 30th\, 2024\, from 7:00 PM -10:00 PM \n \n\n\nLocation:\n\n7059 S South Shore DrChicago\, IL 60649\n\n\n \n  \n  \n  \n 
URL:https://kocoonline.org/event/annual-a-bronze-affair-2024/
LOCATION:South Shore Cultural Center\, 7059 S. South Shore Dr.\, Chicago\, IL\, 60610\, United States
ATTACH;FMTTYPE=image/png:https://kocoonline.org/wp-content/uploads/2024/10/2-1.png
END:VEVENT
BEGIN:VEVENT
DTSTART;TZID=America/Chicago:20251122T190000
DTEND;TZID=America/Chicago:20251122T220000
DTSTAMP:20260419T133115
CREATED:20251016T153529Z
LAST-MODIFIED:20251016T153529Z
UID:2522-1763838000-1763848800@kocoonline.org
SUMMARY:A Bronze Affair "60 Years Forward\, 60 Years Strong" Gala
DESCRIPTION:Join us as we celebrate 60 years of impact\, resilience\, and community at our Annual Bronze Affair “60 Years Forward\, 60 Years Strong” Gala. This milestone evening will honor the legacy of the past six decades while looking boldly toward the future. Guests will enjoy an elegant night of fine dining\, live entertainment\, and inspiring reflections on the journey that has brought us here. \nTogether\, we will pay tribute to the leaders\, visionaries\, and community members who have carried us through 60 years of strength\, while uplifting the next generation who will continue to push us forward. This gala is not just a celebration—it’s a call to action\, reminding us that the work ahead is just as important as the history we honor. \nWith your presence and support\, we will continue to build a legacy of justice\, equity\, and empowerment for decades to come.
URL:https://kocoonline.org/event/a-bronze-affair-60-years-forward-60-years-strong-gala/
LOCATION:South Shore Cultural Center\, 7059 S. South Shore Dr.\, Chicago\, IL\, 60610\, United States
ORGANIZER;CN="Kenwood Oakland Community Organization":MAILTO:info@kocoonline.org
END:VEVENT
END:VCALENDAR