BEGIN:VCALENDAR
VERSION:2.0
PRODID:-//Kenwood-Oakland Community Organization - ECPv6.14.2//NONSGML v1.0//EN
CALSCALE:GREGORIAN
METHOD:PUBLISH
X-WR-CALNAME:Kenwood-Oakland Community Organization
X-ORIGINAL-URL:https://kocoonline.org
X-WR-CALDESC:Events for Kenwood-Oakland Community Organization
REFRESH-INTERVAL;VALUE=DURATION:PT1H
X-Robots-Tag:noindex
X-PUBLISHED-TTL:PT1H
BEGIN:VTIMEZONE
TZID:America/Chicago
BEGIN:DAYLIGHT
TZOFFSETFROM:-0600
TZOFFSETTO:-0500
TZNAME:CDT
DTSTART:20240310T080000
END:DAYLIGHT
BEGIN:STANDARD
TZOFFSETFROM:-0500
TZOFFSETTO:-0600
TZNAME:CST
DTSTART:20241103T070000
END:STANDARD
END:VTIMEZONE
BEGIN:VEVENT
DTSTART;TZID=America/Chicago:20240606T170000
DTEND;TZID=America/Chicago:20240606T200000
DTSTAMP:20260424T040818
CREATED:20240422T211745Z
LAST-MODIFIED:20240422T211745Z
UID:2490-1717693200-1717704000@kocoonline.org
SUMMARY:We Walk For Her
DESCRIPTION:Join us for our 7th Annual We Walk For Her March as we raise attention about \nJoin us as we raise attention about the issue of missing Black girls and Women in Chicago\nmissing Black girls and women in Chicago.
URL:https://kocoonline.org/event/we-walk-for-her/
LOCATION:35th and King Drive\, 3500 S. King Dr\, Chicago\, 60616\, United States
ORGANIZER;CN="Kenwood Oakland Community Organization":MAILTO:info@kocoonline.org
END:VEVENT
END:VCALENDAR